BEGIN:VCALENDAR
VERSION:2.0
PRODID:-//Plone.org//NONSGML plone.app.event//EN
X-WR-TIMEZONE:US/Eastern
BEGIN:VEVENT
SUMMARY:Storytime
DTSTART;TZID=US/Eastern:20260421T103000
DTEND;TZID=US/Eastern:20260421T113000
DTSTAMP:20260419T150838Z
UID:f82986fa922244b7ba0f1f2581d3b00e@saas_stack_varnish:6080
ATTENDEE;CN="For children ages 3-5 and their guardians.";ROLE=REQ-PARTICIP
 ANT:For children ages 3-5 and their guardians.
CONTACT:810-688-2282\, northbranchlibrary@northbranchlibrary.net
CREATED:20260409T170746Z
DESCRIPTION:Join us for the next storytime with Mrs. Thomas on April 21st 
 at 10:30AM. The theme will be lambs\, and we may possibly have a special g
 uest attending! This storytime is for children ages three to five and thei
 r guardians. You can call and sign up at 810-688-2282!
LAST-MODIFIED:20260409T170759Z
LOCATION:North Branch Township Library
URL:https://northbranch.ploud.net/news-events/lib-cal/storytime-29
END:VEVENT
BEGIN:VEVENT
SUMMARY:Junk journaling workshop
DTSTART;TZID=US/Eastern:20260502T103000
DTEND;TZID=US/Eastern:20260502T140000
DTSTAMP:20260419T150838Z
UID:cbae90f7c05d4dd88736e3d420233d96@saas_stack_varnish:6080
ATTENDEE;CN="Open to all ages";ROLE=REQ-PARTICIPANT:Open to all ages
CONTACT:810-688-2282\, northbranchlibrary@northbranchlibrary.net
CREATED:20260317T203212Z
DESCRIPTION:Join us for a junk journaling class at the North Branch Townsh
 ip Library on May second at ten thirty AM.  Bring your own journal and you
 r keepsakes for the class. Some other decorative elements will be provided
 .
LAST-MODIFIED:20260317T203223Z
LOCATION:North Branch Township Library
URL:https://northbranch.ploud.net/news-events/lib-cal/junk-journaling-work
 shop
END:VEVENT
BEGIN:VEVENT
SUMMARY:North Branch Library Book Club Meeting
DTSTART;TZID=US/Eastern:20260521T173000
DTEND;TZID=US/Eastern:20260521T190000
DTSTAMP:20260419T150838Z
UID:af19a2827ca14b4ab4c6a06813f3f9b4@saas_stack_varnish:6080
ATTENDEE;CN="Anyone is welcome but books are usually classified as adult."
 ;ROLE=REQ-PARTICIPANT:Anyone is welcome but books are usually classified a
 s adult.
CONTACT:810-688-2282\, northbranchlibrary@northbranchlibrary.net
CREATED:20260414T174325Z
DESCRIPTION:Join us for the next meeting of the North Branch Library Book 
 Club on May twenty first at five thirty PM. Our next book is Mrs. Lincoln'
 s Dressmaker by Jennifer Chiaverini. This is a low pressure club so even i
 f you did not finish the book we would love to see you there to chat!
LAST-MODIFIED:20260414T174339Z
LOCATION:North Branch Township Library
URL:https://northbranch.ploud.net/news-events/lib-cal/north-branch-library
 -book-club-meeting-3
END:VEVENT
BEGIN:VTIMEZONE
TZID:US/Eastern
X-LIC-LOCATION:US/Eastern
BEGIN:DAYLIGHT
DTSTART:20260308T030000
TZNAME:EDT
TZOFFSETFROM:-0500
TZOFFSETTO:-0400
END:DAYLIGHT
END:VTIMEZONE
END:VCALENDAR
