BEGIN:VCALENDAR
VERSION:2.0
PRODID:-//Plone.org//NONSGML plone.app.event//EN
X-WR-TIMEZONE:US/Eastern
BEGIN:VEVENT
SUMMARY:NBTL Board of Trustees
DTSTART;TZID=US/Eastern:20181009T170000
DTEND;TZID=US/Eastern:20181009T180000
DTSTAMP:20260420T153320Z
UID:d422b887d9944b0294cdfd3482b15a5f@saas_stack_varnish:6080
ATTENDEE;CN=Public;ROLE=REQ-PARTICIPANT:Public
CONTACT:Jan Gottschalk\, 810-688-2282\, northbranchlibrary@northbranchlibr
 ary.net
CREATED:20171114T170321Z
LAST-MODIFIED:20171114T170326Z
LOCATION:NBTL Meeting Room
URL:https://northbranch.ploud.net/nbtl-board-of-trustees/2018-10-09
END:VEVENT
BEGIN:VTIMEZONE
TZID:US/Eastern
X-LIC-LOCATION:US/Eastern
BEGIN:DAYLIGHT
DTSTART:20180311T030000
TZNAME:EDT
TZOFFSETFROM:-0500
TZOFFSETTO:-0400
END:DAYLIGHT
END:VTIMEZONE
END:VCALENDAR
