BEGIN:VCALENDAR
VERSION:2.0
PRODID:-//Plone.org//NONSGML plone.app.event//EN
X-WR-TIMEZONE:US/Eastern
BEGIN:VEVENT
SUMMARY:4th of July Wreath Making Class
DTSTART;TZID=US/Eastern:20250607T103000
DTEND;TZID=US/Eastern:20250607T113000
DTSTAMP:20260419T184402Z
UID:70cc867ceba343daa80a49416b6d3787@saas_stack_varnish:6080
ATTENDEE;CN="Ages 13 and up. 10 slots available";ROLE=REQ-PARTICIPANT:Ages
  13 and up. 10 slots available
CONTACT:810-688-2282\, northbranchlibrary@northbranchlibrary.net
CREATED:20250424T172203Z
DESCRIPTION:Join us for a 4th of July wreath making class costing $10 doll
 ars per person. Sign up by May 31!
LAST-MODIFIED:20250424T172213Z
LOCATION:North Branch Township Library
URL:https://northbranch.ploud.net/news-events/lib-cal/4th-of-july-wreath-m
 aking-class
END:VEVENT
BEGIN:VTIMEZONE
TZID:US/Eastern
X-LIC-LOCATION:US/Eastern
BEGIN:DAYLIGHT
DTSTART:20250309T030000
TZNAME:EDT
TZOFFSETFROM:-0500
TZOFFSETTO:-0400
END:DAYLIGHT
END:VTIMEZONE
END:VCALENDAR
