BEGIN:VCALENDAR
VERSION:2.0
PRODID:-//Plone.org//NONSGML plone.app.event//EN
X-WR-TIMEZONE:US/Eastern
BEGIN:VEVENT
SUMMARY:Acting Up Theatre Company
DTSTART;TZID=US/Eastern:20160621T103000
DTEND;TZID=US/Eastern:20160621T113000
DTSTAMP:20260420T202335Z
UID:1cecf6a868da4781ba22d1f8a533c6d9@saas_stack_varnish:6080
ATTENDEE;CN="ages 3-10";ROLE=REQ-PARTICIPANT:ages 3-10
CONTACT:Kelli Lovasz\, 810-688-2282\, northbranchlibrary@northbranchlibrar
 y.net
CREATED:20160524T151303Z
DESCRIPTION:Charlie the Couch Potato does nothing all day except watch TV\
 , play video games and eat junk food\, until he's encouraged to put down t
 he snacks and "move\, play and read!". \nAn audience participation play fu
 ll of fun and comedy.
LAST-MODIFIED:20160524T151307Z
LOCATION:NBTL Meeting Room
URL:https://northbranch.ploud.net/news-events/lib-cal/acting-up-theatre-co
 mpany
END:VEVENT
BEGIN:VTIMEZONE
TZID:US/Eastern
X-LIC-LOCATION:US/Eastern
BEGIN:DAYLIGHT
DTSTART:20160313T030000
TZNAME:EDT
TZOFFSETFROM:-0500
TZOFFSETTO:-0400
END:DAYLIGHT
END:VTIMEZONE
END:VCALENDAR
