BEGIN:VCALENDAR
VERSION:2.0
PRODID:-//Plone.org//NONSGML plone.app.event//EN
X-WR-TIMEZONE:US/Eastern
BEGIN:VEVENT
SUMMARY:Adult Coloring Class
DTSTART;TZID=US/Eastern:20160203T103000
DTEND;TZID=US/Eastern:20160203T113000
DTSTAMP:20260420T194638Z
UID:57ab0548e04f4b0bb788cd34f4bc045e@saas_stack_varnish:6080
ATTENDEE;CN=adults;ROLE=REQ-PARTICIPANT:adults
CONTACT:Kelli Lovasz\, 810-688-2282\, northbranchlibrary@northbranchlibrar
 y.net
CREATED:20160126T183043Z
DESCRIPTION:This is not your kids' coloring club! We'll provide coloring p
 ages\, colored pencils\, and markers\; you provide the inspiration. Relax 
 and enjoy some creative stress relief!
LAST-MODIFIED:20160126T183047Z
URL:https://northbranch.ploud.net/news-events/lib-cal/adult-coloring-class
END:VEVENT
BEGIN:VTIMEZONE
TZID:US/Eastern
X-LIC-LOCATION:US/Eastern
BEGIN:STANDARD
DTSTART:20151101T010000
TZNAME:EST
TZOFFSETFROM:-0400
TZOFFSETTO:-0500
END:STANDARD
END:VTIMEZONE
END:VCALENDAR
