BEGIN:VCALENDAR
VERSION:2.0
PRODID:-//Plone.org//NONSGML plone.app.event//EN
X-WR-TIMEZONE:US/Eastern
BEGIN:VEVENT
SUMMARY:Adult Coloring Club
DTSTART;TZID=US/Eastern:20160420T100000
DTEND;TZID=US/Eastern:20160420T120000
DTSTAMP:20260420T202718Z
UID:a9a0b14ea38c4d05b81375b9234c3d6d@saas_stack_varnish:6080
ATTENDEE;CN=Adults;ROLE=REQ-PARTICIPANT:Adults
CONTACT:Pat Simmons\, 810-688-2282\, northbranchlibrary@northbranchlibrary
 .net
CREATED:20160324T173155Z
DESCRIPTION:A creative way to relax.  NB Library provides the coloring pag
 es\, crayons\, markers and various things needed for coloring.  You provid
 e the creativity and conversation.
LAST-MODIFIED:20160428T170021Z
LOCATION:NBTL Meeting Room
URL:https://northbranch.ploud.net/news-events/lib-cal/adult-coloring-club-
 1/2016-04-20
END:VEVENT
BEGIN:VTIMEZONE
TZID:US/Eastern
X-LIC-LOCATION:US/Eastern
BEGIN:DAYLIGHT
DTSTART:20160313T030000
TZNAME:EDT
TZOFFSETFROM:-0500
TZOFFSETTO:-0400
END:DAYLIGHT
END:VTIMEZONE
END:VCALENDAR
