BEGIN:VCALENDAR
VERSION:2.0
PRODID:-//Plone.org//NONSGML plone.app.event//EN
X-WR-TIMEZONE:US/Eastern
BEGIN:VEVENT
SUMMARY:Adult Coloring Club
DTSTART;TZID=US/Eastern:20160302T103000
DTEND;TZID=US/Eastern:20160302T113000
DTSTAMP:20260420T205058Z
UID:b9fd03a7a6904a0aa7b95de609bb19a7@saas_stack_varnish:6080
CREATED:20160215T183545Z
DESCRIPTION:Enjoy the company of others as you create beautiful masterpiec
 es.  All markers\, colored pencils and coloring pages supplied by the libr
 ary.
LAST-MODIFIED:20160215T183706Z
URL:https://northbranch.ploud.net/news-events/lib-cal/adult-coloring-club/
 2016-03-02
END:VEVENT
BEGIN:VTIMEZONE
TZID:US/Eastern
X-LIC-LOCATION:US/Eastern
BEGIN:STANDARD
DTSTART:20151101T010000
TZNAME:EST
TZOFFSETFROM:-0400
TZOFFSETTO:-0500
END:STANDARD
END:VTIMEZONE
END:VCALENDAR
