BEGIN:VCALENDAR
VERSION:2.0
PRODID:-//Plone.org//NONSGML plone.app.event//EN
X-WR-TIMEZONE:US/Eastern
BEGIN:VEVENT
SUMMARY:After Hours Painting Class
DTSTART;TZID=US/Eastern:20190426T170000
DTEND;TZID=US/Eastern:20190426T200000
DTSTAMP:20260422T120607Z
UID:5b88ba1f79f74128ae3a8832758acd0b@saas_stack_varnish:6080
ATTENDEE;CN="This is an adult craft program";ROLE=REQ-PARTICIPANT:This is 
 an adult craft program
CONTACT:Kelli Lovasz\, 810-688-2282\, northbranchlibrary@northbranchlibrar
 y.net
CREATED:20190322T182112Z
DESCRIPTION:Enjoy a night out with friends\, good conversation and take ho
 me a fun painting.  Becky Baksa\, art teacher at North Branch Area Schools
 \, will be leading us through a delightful painting night.\nThere is a $20
  material fee for this class.  A $10 non-refundable deposit is due to rese
 rve your spot for this limited seating class.
LAST-MODIFIED:20190322T182116Z
LOCATION:NBTL Meeting Room
URL:https://northbranch.ploud.net/news-events/lib-cal/after-hours-painting
 -class
END:VEVENT
BEGIN:VTIMEZONE
TZID:US/Eastern
X-LIC-LOCATION:US/Eastern
BEGIN:DAYLIGHT
DTSTART:20190310T030000
TZNAME:EDT
TZOFFSETFROM:-0500
TZOFFSETTO:-0400
END:DAYLIGHT
END:VTIMEZONE
END:VCALENDAR
