BEGIN:VCALENDAR
VERSION:2.0
PRODID:-//Plone.org//NONSGML plone.app.event//EN
X-WR-TIMEZONE:US/Eastern
BEGIN:VEVENT
SUMMARY:Altered Art Craft
DTSTART;TZID=US/Eastern:20251016T170000
DTEND;TZID=US/Eastern:20251016T180000
DTSTAMP:20260419T183911Z
UID:74d14a52ffd84a6a858c92174f2f8947@saas_stack_varnish:6080
ATTENDEE;CN="All ages welcome.";ROLE=REQ-PARTICIPANT:All ages welcome.
CONTACT:810-688-2282\, northbranchlibrary@northbranchlibrary.net
CREATED:20250911T190928Z
DESCRIPTION:Join us to paint your very own cute and spooky figurine. Limit
 ed figurines provided by library\, so bring your own if possible!
LAST-MODIFIED:20250911T190934Z
LOCATION:North Branch Township Library
URL:https://northbranch.ploud.net/news-events/lib-cal/altered-art-craft
END:VEVENT
BEGIN:VTIMEZONE
TZID:US/Eastern
X-LIC-LOCATION:US/Eastern
BEGIN:DAYLIGHT
DTSTART:20250309T030000
TZNAME:EDT
TZOFFSETFROM:-0500
TZOFFSETTO:-0400
END:DAYLIGHT
END:VTIMEZONE
END:VCALENDAR
