BEGIN:VCALENDAR
VERSION:2.0
PRODID:-//Plone.org//NONSGML plone.app.event//EN
X-WR-TIMEZONE:US/Eastern
BEGIN:VEVENT
SUMMARY:Alternate Library Hours
DTSTART;TZID=US/Eastern:20160505T100000
DTEND;TZID=US/Eastern:20160505T170000
DTSTAMP:20260420T201944Z
UID:b68d1c395dbc40758ba48e522fe3fe8a@saas_stack_varnish:6080
CONTACT:Kelli Lovasz\, 810-688-2282\, northbranchlibrary@northbranchlibrar
 y.net
CREATED:20160324T174920Z
DESCRIPTION:The NBTL will be operating on a shortened schedule for staff t
 raining. We will be open 10:00am - 5:00pm on May 3rd - 5th\, 2016
LAST-MODIFIED:20160324T174925Z
LOCATION:NBTL
URL:https://northbranch.ploud.net/news-events/lib-cal/alternate-library-ho
 urs/2016-05-05
END:VEVENT
BEGIN:VTIMEZONE
TZID:US/Eastern
X-LIC-LOCATION:US/Eastern
BEGIN:DAYLIGHT
DTSTART:20160313T030000
TZNAME:EDT
TZOFFSETFROM:-0500
TZOFFSETTO:-0400
END:DAYLIGHT
END:VTIMEZONE
END:VCALENDAR
