BEGIN:VCALENDAR
VERSION:2.0
PRODID:-//Plone.org//NONSGML plone.app.event//EN
X-WR-TIMEZONE:US/Eastern
BEGIN:VEVENT
SUMMARY:Antique Appraisals
DTSTART;TZID=US/Eastern:20160130T103000
DTEND;TZID=US/Eastern:20160130T140000
DTSTAMP:20260420T164435Z
UID:f80dcceb291a4567b68f621cde1177eb@saas_stack_varnish:6080
CONTACT:Kelli Lovasz\, 810-688-2282\, northbranchlibrary@northbranchlibrar
 y.net
CREATED:20151221T162451Z
DESCRIPTION:Do you have an item in you house that you've always wondered a
 bout? Ever want to know how much your antique is worth?  Antique expert La
 rry Schlaud will appraise your antiques.  Bring them to the library betwee
 n 10:30am - 2:00pm.  Limit 3 items per person at $3 per item.  
LAST-MODIFIED:20151221T162455Z
LOCATION:NBTL Meeting Room
URL:https://northbranch.ploud.net/news-events/lib-cal/antique-appraisals
END:VEVENT
BEGIN:VTIMEZONE
TZID:US/Eastern
X-LIC-LOCATION:US/Eastern
BEGIN:STANDARD
DTSTART:20151101T010000
TZNAME:EST
TZOFFSETFROM:-0400
TZOFFSETTO:-0500
END:STANDARD
END:VTIMEZONE
END:VCALENDAR
