BEGIN:VCALENDAR
VERSION:2.0
PRODID:-//Plone.org//NONSGML plone.app.event//EN
X-WR-TIMEZONE:US/Eastern
BEGIN:VEVENT
SUMMARY:April Craft for kids
DTSTART;TZID=US/Eastern:20230422T100000
DTEND;TZID=US/Eastern:20230422T133000
DTSTAMP:20260419T232509Z
UID:b5cc6862a3cb4150a2d50c112967b024@saas_stack_varnish:6080
CONTACT:northbranchlibrary@northbranchlibrary.net
CREATED:20230412T184709Z
DESCRIPTION:Make a spring craft in the library
LAST-MODIFIED:20230412T184717Z
LOCATION:NBTL
URL:https://northbranch.ploud.net/news-events/lib-cal/april-craft-for-kids
END:VEVENT
BEGIN:VTIMEZONE
TZID:US/Eastern
X-LIC-LOCATION:US/Eastern
BEGIN:DAYLIGHT
DTSTART:20230312T030000
TZNAME:EDT
TZOFFSETFROM:-0500
TZOFFSETTO:-0400
END:DAYLIGHT
END:VTIMEZONE
END:VCALENDAR
