BEGIN:VCALENDAR
VERSION:2.0
PRODID:-//Plone.org//NONSGML plone.app.event//EN
X-WR-TIMEZONE:US/Eastern
BEGIN:VEVENT
SUMMARY:Ark Animal Encounters
DTSTART;TZID=US/Eastern:20230629T120000
DTEND;TZID=US/Eastern:20230629T130000
DTSTAMP:20260419T232417Z
UID:5f499bea860746ed819140fb488d8f6b@saas_stack_varnish:6080
ATTENDEE;CN="All Ages";ROLE=REQ-PARTICIPANT:All Ages
CONTACT:Kelli Lovasz\, 810-688-2282\, northbranchlibrary@northbranchlibrar
 y.net
CREATED:20230616T195233Z
DESCRIPTION:A hands on\, fun\, educational program
LAST-MODIFIED:20230616T195239Z
LOCATION:NBTL
URL:https://northbranch.ploud.net/news-events/lib-cal/ark-animal-encounter
 s-1
END:VEVENT
BEGIN:VTIMEZONE
TZID:US/Eastern
X-LIC-LOCATION:US/Eastern
BEGIN:DAYLIGHT
DTSTART:20230312T030000
TZNAME:EDT
TZOFFSETFROM:-0500
TZOFFSETTO:-0400
END:DAYLIGHT
END:VTIMEZONE
END:VCALENDAR
