BEGIN:VCALENDAR
VERSION:2.0
PRODID:-//Plone.org//NONSGML plone.app.event//EN
X-WR-TIMEZONE:US/Eastern
BEGIN:VEVENT
SUMMARY:ARK Animal Encounters
DTSTART;TZID=US/Eastern:20180717T110000
DTEND;TZID=US/Eastern:20180717T120000
DTSTAMP:20260422T160611Z
UID:a2fec2bed2174dad9259a5b5bbb769b7@saas_stack_varnish:6080
CONTACT:Kelli Lovasz\, 8106882282\, northbranchlibrary@northbranchlibrary.
 net
CREATED:20180605T192506Z
DESCRIPTION:This is a hands-on animal show.  Pre-registration is required 
 for this event.  There will be an 11:00 am and a 12:30 pm program.  Please
  sign up for just one program.
LAST-MODIFIED:20180605T192510Z
LOCATION:NBTL
URL:https://northbranch.ploud.net/news-events/lib-cal/ark-animal-encounter
 s
END:VEVENT
BEGIN:VTIMEZONE
TZID:US/Eastern
X-LIC-LOCATION:US/Eastern
BEGIN:DAYLIGHT
DTSTART:20180311T030000
TZNAME:EDT
TZOFFSETFROM:-0500
TZOFFSETTO:-0400
END:DAYLIGHT
END:VTIMEZONE
END:VCALENDAR
