BEGIN:VCALENDAR
VERSION:2.0
PRODID:-//Plone.org//NONSGML plone.app.event//EN
X-WR-TIMEZONE:US/Eastern
BEGIN:VEVENT
SUMMARY:Autumn Craft
DTSTART;TZID=US/Eastern:20230928T150000
DTEND;TZID=US/Eastern:20230928T180000
DTSTAMP:20260419T221050Z
UID:360b1883aa52431b931e92d4c222945f@saas_stack_varnish:6080
CONTACT:Christi Braxton\, 810-688-2282\, northbranchlibrary@northbranchlib
 rary.net
CREATED:20230913T171906Z
DESCRIPTION:We will be making Autumn macrame feathers for our autumn class
 .  Material will be provided.  Please call the library to sign up.
LAST-MODIFIED:20230913T171913Z
LOCATION:NBTL
URL:https://northbranch.ploud.net/news-events/lib-cal/autumn-craft-2
END:VEVENT
BEGIN:VTIMEZONE
TZID:US/Eastern
X-LIC-LOCATION:US/Eastern
BEGIN:DAYLIGHT
DTSTART:20230312T030000
TZNAME:EDT
TZOFFSETFROM:-0500
TZOFFSETTO:-0400
END:DAYLIGHT
END:VTIMEZONE
END:VCALENDAR
