BEGIN:VCALENDAR
VERSION:2.0
PRODID:-//Plone.org//NONSGML plone.app.event//EN
X-WR-TIMEZONE:US/Eastern
BEGIN:VEVENT
SUMMARY:Beginner Sewing Class
DTSTART;TZID=US/Eastern:20250821T160000
DTEND;TZID=US/Eastern:20250821T180000
DTSTAMP:20260419T221225Z
UID:6809d8b76262469ab2eef1b64c7b5aaa@saas_stack_varnish:6080
ATTENDEE;CN="All ages-children must be with guardian";ROLE=REQ-PARTICIPANT
 :All ages-children must be with guardian
CONTACT:810-688-2282\, northbranchlibrary@northbranchlibrary.net
CREATED:20250805T181751Z
DESCRIPTION:Learn basic sewing techniques in this beginner class! Bring yo
 ur own supplies- sewing machine suggested.
LAST-MODIFIED:20250805T181759Z
LOCATION:North Branch Township Library
URL:https://northbranch.ploud.net/news-events/lib-cal/beginner-sewing-clas
 s
END:VEVENT
BEGIN:VTIMEZONE
TZID:US/Eastern
X-LIC-LOCATION:US/Eastern
BEGIN:DAYLIGHT
DTSTART:20250309T030000
TZNAME:EDT
TZOFFSETFROM:-0500
TZOFFSETTO:-0400
END:DAYLIGHT
END:VTIMEZONE
END:VCALENDAR
