BEGIN:VCALENDAR
VERSION:2.0
PRODID:-//Plone.org//NONSGML plone.app.event//EN
X-WR-TIMEZONE:US/Eastern
BEGIN:VEVENT
SUMMARY:Birds & Butterflies
DTSTART;TZID=US/Eastern:20230707T110000
DTEND;TZID=US/Eastern:20230707T120000
DTSTAMP:20260419T232417Z
UID:5b2bdc84fa8345258e7c8081afd646a1@saas_stack_varnish:6080
CREATED:20230616T201144Z
DESCRIPTION:Craft program with MSU extension
LAST-MODIFIED:20230616T201149Z
URL:https://northbranch.ploud.net/news-events/lib-cal/birds-butterflies
END:VEVENT
BEGIN:VTIMEZONE
TZID:US/Eastern
X-LIC-LOCATION:US/Eastern
BEGIN:DAYLIGHT
DTSTART:20230312T030000
TZNAME:EDT
TZOFFSETFROM:-0500
TZOFFSETTO:-0400
END:DAYLIGHT
END:VTIMEZONE
END:VCALENDAR
