BEGIN:VCALENDAR
VERSION:2.0
PRODID:-//Plone.org//NONSGML plone.app.event//EN
X-WR-TIMEZONE:US/Eastern
BEGIN:VEVENT
SUMMARY:Blanket Class
DTSTART;TZID=US/Eastern:20260419T120000
DTEND;TZID=US/Eastern:20260419T130000
DTSTAMP:20260419T164835Z
UID:3491d0b9c0be4da79206f6a532afd683@saas_stack_varnish:6080
CREATED:20240119T193914Z
DESCRIPTION:Learn to make a chunky cozy blanket using the finger knitting 
 technique.  Space is limited please call the library 810-688-2282 to sign 
 up
LAST-MODIFIED:20240119T193921Z
URL:https://northbranch.ploud.net/news-events/lib-cal/blanket-class
END:VEVENT
BEGIN:VTIMEZONE
TZID:US/Eastern
X-LIC-LOCATION:US/Eastern
BEGIN:DAYLIGHT
DTSTART:20260308T030000
TZNAME:EDT
TZOFFSETFROM:-0500
TZOFFSETTO:-0400
END:DAYLIGHT
END:VTIMEZONE
END:VCALENDAR
