BEGIN:VCALENDAR
VERSION:2.0
PRODID:-//Plone.org//NONSGML plone.app.event//EN
X-WR-TIMEZONE:US/Eastern
BEGIN:VEVENT
SUMMARY:Board Meeting
DTSTART;TZID=US/Eastern:20230808T170000
DTEND;TZID=US/Eastern:20230808T180000
DTSTAMP:20260419T214638Z
UID:7064aa3e3f2d48f7b20bc3f281ceadee@saas_stack_varnish:6080
CREATED:20230616T202745Z
DESCRIPTION:A meeting the NBTL Board of Trustees.  Public is welcome and e
 ncouraged to attend
LAST-MODIFIED:20230616T202749Z
URL:https://northbranch.ploud.net/news-events/lib-cal/board-meeting-1
END:VEVENT
BEGIN:VTIMEZONE
TZID:US/Eastern
X-LIC-LOCATION:US/Eastern
BEGIN:DAYLIGHT
DTSTART:20230312T030000
TZNAME:EDT
TZOFFSETFROM:-0500
TZOFFSETTO:-0400
END:DAYLIGHT
END:VTIMEZONE
END:VCALENDAR
