BEGIN:VCALENDAR
VERSION:2.0
PRODID:-//Plone.org//NONSGML plone.app.event//EN
X-WR-TIMEZONE:US/Eastern
BEGIN:VEVENT
SUMMARY:Board Meeting
DTSTART;TZID=US/Eastern:20230711T170000
DTEND;TZID=US/Eastern:20230711T180000
DTSTAMP:20260419T232318Z
UID:94c8e910d6ba420b822fbb7bd38544fe@saas_stack_varnish:6080
CONTACT:Kelli Lovasz\, 810-688-2282\, northbranchlibrary@northbranchlibrar
 y.net
CREATED:20230616T201400Z
DESCRIPTION:Meeting of the North Branch Township Board of Trustees.  All a
 re welcome and encouraged to attend.
LAST-MODIFIED:20230616T201404Z
LOCATION:NBTL
URL:https://northbranch.ploud.net/news-events/lib-cal/board-meeting
END:VEVENT
BEGIN:VTIMEZONE
TZID:US/Eastern
X-LIC-LOCATION:US/Eastern
BEGIN:DAYLIGHT
DTSTART:20230312T030000
TZNAME:EDT
TZOFFSETFROM:-0500
TZOFFSETTO:-0400
END:DAYLIGHT
END:VTIMEZONE
END:VCALENDAR
