BEGIN:VCALENDAR
VERSION:2.0
PRODID:-//Plone.org//NONSGML plone.app.event//EN
X-WR-TIMEZONE:US/Eastern
BEGIN:VEVENT
SUMMARY:Book Club Meeting
DTSTART;TZID=US/Eastern:20260108T173000
DTEND;TZID=US/Eastern:20260108T190000
DTSTAMP:20260419T221711Z
UID:57911947fadf4c0790703e9b6575cdd1@saas_stack_varnish:6080
CONTACT:810-688-2282\, northbranchlibrary@northbranchlibrary.net
CREATED:20251120T234551Z
DESCRIPTION:Join us for the next meeting of the North Branch Book club! Ou
 r next book is Educated by Tara Westover. This is a low pressure club\, so
  come in and chat even if you didn't finish the book!
LAST-MODIFIED:20251120T234558Z
LOCATION:North Branch Township Library
URL:https://northbranch.ploud.net/news-events/lib-cal/book-club-meeting-1
END:VEVENT
BEGIN:VTIMEZONE
TZID:US/Eastern
X-LIC-LOCATION:US/Eastern
BEGIN:STANDARD
DTSTART:20251102T010000
TZNAME:EST
TZOFFSETFROM:-0400
TZOFFSETTO:-0500
END:STANDARD
END:VTIMEZONE
END:VCALENDAR
