BEGIN:VCALENDAR
VERSION:2.0
PRODID:-//Plone.org//NONSGML plone.app.event//EN
X-WR-TIMEZONE:US/Eastern
BEGIN:VEVENT
SUMMARY:Book Club Meeting
DTSTART;TZID=US/Eastern:20251120T173000
DTEND;TZID=US/Eastern:20251120T190000
DTSTAMP:20260419T221634Z
UID:280b03f8e21f436cbb25c5765e3d7125@saas_stack_varnish:6080
CONTACT:810-688-2282\, northbranchlibrary@northbranchlibrary.net
CREATED:20251028T164033Z
DESCRIPTION:Our first group book will be Gone Before Goodbye by Harlan Cob
 en and Reese Witherspoon. Come prepared to discuss your thoughts and quest
 ions about the book and also discuss our next book pick!
LAST-MODIFIED:20251028T164043Z
LOCATION:North Branch Township Library
URL:https://northbranch.ploud.net/news-events/lib-cal/book-club-meeting
END:VEVENT
BEGIN:VTIMEZONE
TZID:US/Eastern
X-LIC-LOCATION:US/Eastern
BEGIN:STANDARD
DTSTART:20251102T010000
TZNAME:EST
TZOFFSETFROM:-0400
TZOFFSETTO:-0500
END:STANDARD
END:VTIMEZONE
END:VCALENDAR
