BEGIN:VCALENDAR
VERSION:2.0
PRODID:-//Plone.org//NONSGML plone.app.event//EN
X-WR-TIMEZONE:US/Eastern
BEGIN:VEVENT
SUMMARY:Book Sale
DTSTART;TZID=US/Eastern:20230622T090000
DTEND;TZID=US/Eastern:20230624T130000
DTSTAMP:20260419T232450Z
UID:28dfc753472e4d1f9aa28f1465d1a9ba@saas_stack_varnish:6080
CREATED:20230616T192332Z
DESCRIPTION:We will be holding a book sale during the NB Community garage 
 sale event
LAST-MODIFIED:20230616T192337Z
URL:https://northbranch.ploud.net/news-events/lib-cal/book-sale-1
END:VEVENT
BEGIN:VTIMEZONE
TZID:US/Eastern
X-LIC-LOCATION:US/Eastern
BEGIN:DAYLIGHT
DTSTART:20230312T030000
TZNAME:EDT
TZOFFSETFROM:-0500
TZOFFSETTO:-0400
END:DAYLIGHT
END:VTIMEZONE
END:VCALENDAR
