BEGIN:VCALENDAR
VERSION:2.0
PRODID:-//Plone.org//NONSGML plone.app.event//EN
X-WR-TIMEZONE:US/Eastern
BEGIN:VEVENT
SUMMARY:Book Sale
DTSTART;TZID=US/Eastern:20221008T100000
DTEND;TZID=US/Eastern:20221008T140000
DTSTAMP:20260420T045724Z
UID:916fb4e1631340639e088308b2724c92@saas_stack_varnish:6080
CONTACT:Kelli Lovasz\, 810-688-2282\, northbranchlibary@northbranchlibrary
 .net
CREATED:20220930T153633Z
DESCRIPTION:Our annual Harvest Fest Book Sale.
LAST-MODIFIED:20220930T153638Z
LOCATION:NBTL
URL:https://northbranch.ploud.net/news-events/lib-cal/book-sale
END:VEVENT
BEGIN:VTIMEZONE
TZID:US/Eastern
X-LIC-LOCATION:US/Eastern
BEGIN:DAYLIGHT
DTSTART:20220313T030000
TZNAME:EDT
TZOFFSETFROM:-0500
TZOFFSETTO:-0400
END:DAYLIGHT
END:VTIMEZONE
END:VCALENDAR
