BEGIN:VCALENDAR
VERSION:2.0
PRODID:-//Plone.org//NONSGML plone.app.event//EN
X-WR-TIMEZONE:US/Eastern
BEGIN:VEVENT
SUMMARY:Book Signing - Howard Myers
DTSTART;TZID=US/Eastern:20180616T103000
DTEND;TZID=US/Eastern:20180616T113000
DTSTAMP:20260420T205807Z
UID:8bc320cfd7fb4cfebbccef1ce3ed3b0d@saas_stack_varnish:6080
ATTENDEE;CN="All ages";ROLE=REQ-PARTICIPANT:All ages
CONTACT:Kelli Lovasz\, 8106882282\, northbranchlibrary@northbranchlibrary.
 net
CREATED:20180605T191039Z
DESCRIPTION:Retired veteran and Purple Heart recipient\, Howard Myers\, an
 d his son\, Chad Myers\, a life coach and inspirational speaker\, bring va
 luable life lessons from Howard's journey from trauma to triumph.   Howard
  will be sharing highlights of his story to readers who seek encouragement
 \, hope and inspiration to overcome difficult challenges in his newly rele
 ased book. "Blind Vision: A Veteran's Story of Trauma to Triumph"
LAST-MODIFIED:20180605T191044Z
LOCATION:NBTL Meeting Room
URL:https://northbranch.ploud.net/news-events/lib-cal/book-signing-howard-
 myers
END:VEVENT
BEGIN:VTIMEZONE
TZID:US/Eastern
X-LIC-LOCATION:US/Eastern
BEGIN:DAYLIGHT
DTSTART:20180311T030000
TZNAME:EDT
TZOFFSETFROM:-0500
TZOFFSETTO:-0400
END:DAYLIGHT
END:VTIMEZONE
END:VCALENDAR
