BEGIN:VCALENDAR
VERSION:2.0
PRODID:-//Plone.org//NONSGML plone.app.event//EN
X-WR-TIMEZONE:US/Eastern
BEGIN:VEVENT
SUMMARY:Boredom Buster- Oreo Tasting
DTSTART;TZID=US/Eastern:20250401T100000
DTEND;TZID=US/Eastern:20250405T133000
DTSTAMP:20260419T201802Z
UID:c6706e41d6d14ab7a9f0fe9245a5a840@saas_stack_varnish:6080
CONTACT:810-688-2282\, northbranchlibrary@northbranchlibrary.net
CREATED:20250320T162048Z
DESCRIPTION:Come in and taste test some unique oreo flavors!
LAST-MODIFIED:20250320T162058Z
LOCATION:North Branch Township Library
URL:https://northbranch.ploud.net/news-events/lib-cal/boredom-buster-oreo-
 tasting
END:VEVENT
BEGIN:VTIMEZONE
TZID:US/Eastern
X-LIC-LOCATION:US/Eastern
BEGIN:DAYLIGHT
DTSTART:20250309T030000
TZNAME:EDT
TZOFFSETFROM:-0500
TZOFFSETTO:-0400
END:DAYLIGHT
END:VTIMEZONE
END:VCALENDAR
