BEGIN:VCALENDAR
VERSION:2.0
PRODID:-//Plone.org//NONSGML plone.app.event//EN
X-WR-TIMEZONE:US/Eastern
BEGIN:VEVENT
SUMMARY:Bow Making Workshop
DTSTART;TZID=US/Eastern:20161116T170000
DTEND;TZID=US/Eastern:20161116T183000
DTSTAMP:20260420T215930Z
UID:0647798cb8844b50b2a3c619dc13f052@saas_stack_varnish:6080
CONTACT:Kelli Lovasz\, 810-688-2282\, northbranchlibrary@northbranchlibrar
 y.net
CREATED:20161025T145646Z
DESCRIPTION:Learn to make decorative bows for all your wrapping and decora
 ting needs.  Please call the library to sign up.
LAST-MODIFIED:20161025T145650Z
LOCATION:NBTL Meeting Room
URL:https://northbranch.ploud.net/news-events/lib-cal/bow-making-workshop
END:VEVENT
BEGIN:VTIMEZONE
TZID:US/Eastern
X-LIC-LOCATION:US/Eastern
BEGIN:STANDARD
DTSTART:20161106T010000
TZNAME:EST
TZOFFSETFROM:-0400
TZOFFSETTO:-0500
END:STANDARD
END:VTIMEZONE
END:VCALENDAR
