BEGIN:VCALENDAR
VERSION:2.0
PRODID:-//Plone.org//NONSGML plone.app.event//EN
X-WR-TIMEZONE:US/Eastern
BEGIN:VEVENT
SUMMARY:Bubbleman
DTSTART;TZID=US/Eastern:20250617T110000
DTEND;TZID=US/Eastern:20250617T120000
DTSTAMP:20260419T183715Z
UID:af874e0fa8974d9a84966d17e2a7f859@saas_stack_varnish:6080
CONTACT:810-688-2282\, northbranchlibrary@northbranchlibrary.net
CREATED:20250610T192002Z
DESCRIPTION:Join the Bubbleman as he makes bubbles of all sizes and shapes
  and teaches you how to make your own!
LAST-MODIFIED:20250610T192010Z
LOCATION:North Branch Township Library
URL:https://northbranch.ploud.net/news-events/lib-cal/bubbleman-1
END:VEVENT
BEGIN:VTIMEZONE
TZID:US/Eastern
X-LIC-LOCATION:US/Eastern
BEGIN:DAYLIGHT
DTSTART:20250309T030000
TZNAME:EDT
TZOFFSETFROM:-0500
TZOFFSETTO:-0400
END:DAYLIGHT
END:VTIMEZONE
END:VCALENDAR
