BEGIN:VCALENDAR
VERSION:2.0
PRODID:-//Plone.org//NONSGML plone.app.event//EN
X-WR-TIMEZONE:US/Eastern
BEGIN:VEVENT
SUMMARY:Bubbleman
DTSTART;TZID=US/Eastern:20190709T110000
DTEND;TZID=US/Eastern:20190709T120000
DTSTAMP:20260420T105801Z
UID:13bbcdc1bc2f473faf752c001b9c01d3@saas_stack_varnish:6080
ATTENDEE;CN="All ages";ROLE=REQ-PARTICIPANT:All ages
CONTACT:Kelli Lovasz\, 8106882282\, northbranchlibrary@northbranchlibrary.
 net
CREATED:20190605T161527Z
DESCRIPTION:Using ordinary soap bubble solution\, the Bubbleman shows us t
 he science of bubbles.  Creating volcano bubbles\, tornado bubbles\, kalei
 doscope bubbles\, square bubbles and so much more.
LAST-MODIFIED:20190605T161532Z
LOCATION:NBTL Meeting Room
URL:https://northbranch.ploud.net/news-events/lib-cal/bubbleman
END:VEVENT
BEGIN:VTIMEZONE
TZID:US/Eastern
X-LIC-LOCATION:US/Eastern
BEGIN:DAYLIGHT
DTSTART:20190310T030000
TZNAME:EDT
TZOFFSETFROM:-0500
TZOFFSETTO:-0400
END:DAYLIGHT
END:VTIMEZONE
END:VCALENDAR
