BEGIN:VCALENDAR
VERSION:2.0
PRODID:-//Plone.org//NONSGML plone.app.event//EN
X-WR-TIMEZONE:US/Eastern
BEGIN:VEVENT
SUMMARY:Butterflies at the library
DTSTART;TZID=US/Eastern:20170616T110000
DTEND;TZID=US/Eastern:20170616T120000
DTSTAMP:20260420T205440Z
UID:4669309bc7934758aaad2723e59611b4@saas_stack_varnish:6080
ATTENDEE;CN="Children's program";ROLE=REQ-PARTICIPANT:Children's program
CONTACT:Kelli Lovasz\, 810-688-2282\, northbranchlibrary@northbranchlibrar
 y.net
CREATED:20170515T190948Z
DESCRIPTION:Caterpillar to butterfly.  We'll be teaching a fun class about
  the life cycle of a butterfly and their importance to our ecosystem.  The
 re will be a number of Chrysalides to take home so that you too may watch 
 your caterpillar become a butterfly.  (Chrysalides availability will be ba
 sed on participation numbers.)
LAST-MODIFIED:20170515T190952Z
URL:https://northbranch.ploud.net/news-events/lib-cal/butterflies-at-the-l
 ibrary
END:VEVENT
BEGIN:VTIMEZONE
TZID:US/Eastern
X-LIC-LOCATION:US/Eastern
BEGIN:DAYLIGHT
DTSTART:20170312T030000
TZNAME:EDT
TZOFFSETFROM:-0500
TZOFFSETTO:-0400
END:DAYLIGHT
END:VTIMEZONE
END:VCALENDAR
