BEGIN:VCALENDAR
VERSION:2.0
PRODID:-//Plone.org//NONSGML plone.app.event//EN
X-WR-TIMEZONE:US/Eastern
BEGIN:VEVENT
SUMMARY:Cameron Zvarra - Magician
DTSTART;TZID=US/Eastern:20180709T110000
DTEND;TZID=US/Eastern:20180709T120000
DTSTAMP:20260422T154710Z
UID:3a7ab0fac5914f1384be3fa681b50e9c@saas_stack_varnish:6080
CONTACT:Kelli Lovasz\, 8106882282\, northbranchlibrary@northbranchlibrary.
 net
CREATED:20180605T191952Z
DESCRIPTION:A show jam packed with magic\, comedy\, juggling stunts and mu
 sic.
LAST-MODIFIED:20180605T191956Z
LOCATION:NBTL
URL:https://northbranch.ploud.net/news-events/lib-cal/cameron-zvarra-magic
 ian
END:VEVENT
BEGIN:VTIMEZONE
TZID:US/Eastern
X-LIC-LOCATION:US/Eastern
BEGIN:DAYLIGHT
DTSTART:20180311T030000
TZNAME:EDT
TZOFFSETFROM:-0500
TZOFFSETTO:-0400
END:DAYLIGHT
END:VTIMEZONE
END:VCALENDAR
