BEGIN:VCALENDAR
VERSION:2.0
PRODID:-//Plone.org//NONSGML plone.app.event//EN
X-WR-TIMEZONE:US/Eastern
BEGIN:VEVENT
SUMMARY:Card Class
DTSTART;TZID=US/Eastern:20211012T130000
DTEND;TZID=US/Eastern:20211012T170000
DTSTAMP:20260420T054649Z
UID:a423272eec844604a63c6df3cd4aafd6@saas_stack_varnish:6080
CONTACT:Kelli Lovasz\, 810-688-2282\, northbranchlibary@northbranchlibrary
 .net
CREATED:20211007T181721Z
DESCRIPTION:Make 10 greeting cards with Barb.  There is a cost associated 
 with this class.  All supplies provided.
LAST-MODIFIED:20211007T181727Z
LOCATION:NBTL Meeting Room
URL:https://northbranch.ploud.net/news-events/lib-cal/card-class-2
END:VEVENT
BEGIN:VTIMEZONE
TZID:US/Eastern
X-LIC-LOCATION:US/Eastern
BEGIN:DAYLIGHT
DTSTART:20210314T030000
TZNAME:EDT
TZOFFSETFROM:-0500
TZOFFSETTO:-0400
END:DAYLIGHT
END:VTIMEZONE
END:VCALENDAR
