BEGIN:VCALENDAR
VERSION:2.0
PRODID:-//Plone.org//NONSGML plone.app.event//EN
X-WR-TIMEZONE:US/Eastern
BEGIN:VEVENT
SUMMARY:Card Class
DTSTART;TZID=US/Eastern:20211014T130000
DTEND;TZID=US/Eastern:20211014T170000
DTSTAMP:20260420T054750Z
UID:3829d1cbe8f24d2bb2eba3f2647a7423@saas_stack_varnish:6080
CONTACT:8106882282\, northbranchlibary@northbranchlibrary.net
CREATED:20211007T181912Z
DESCRIPTION:Make 10 greeting cards with Barb
LAST-MODIFIED:20211007T181918Z
LOCATION:NBTL Meeting Room
URL:https://northbranch.ploud.net/news-events/lib-cal/card-class-3
END:VEVENT
BEGIN:VTIMEZONE
TZID:US/Eastern
X-LIC-LOCATION:US/Eastern
BEGIN:DAYLIGHT
DTSTART:20210314T030000
TZNAME:EDT
TZOFFSETFROM:-0500
TZOFFSETTO:-0400
END:DAYLIGHT
END:VTIMEZONE
END:VCALENDAR
