BEGIN:VCALENDAR
VERSION:2.0
PRODID:-//Plone.org//NONSGML plone.app.event//EN
X-WR-TIMEZONE:US/Eastern
BEGIN:VEVENT
SUMMARY:Card Class
DTSTART;TZID=US/Eastern:20220428T130000
DTEND;TZID=US/Eastern:20220428T180000
DTSTAMP:20260420T064633Z
UID:df42da69ea844d3a9dcc7b0cfea9e279@saas_stack_varnish:6080
CONTACT:Barb Deming\, 8106882282
CREATED:20220412T173312Z
DESCRIPTION:Join us for a fun time of conversation and card making.  Hoste
 d by Barb Deming.  There is a $10 fee for this class.  10 cards will be ma
 de.  Please call the library to sign up.\n810-688-2282
LAST-MODIFIED:20220412T173319Z
LOCATION:NBTL Meeting Room
URL:https://northbranch.ploud.net/news-events/lib-cal/card-class-4
END:VEVENT
BEGIN:VTIMEZONE
TZID:US/Eastern
X-LIC-LOCATION:US/Eastern
BEGIN:DAYLIGHT
DTSTART:20220313T030000
TZNAME:EDT
TZOFFSETFROM:-0500
TZOFFSETTO:-0400
END:DAYLIGHT
END:VTIMEZONE
END:VCALENDAR
