BEGIN:VCALENDAR
VERSION:2.0
PRODID:-//Plone.org//NONSGML plone.app.event//EN
X-WR-TIMEZONE:US/Eastern
BEGIN:VEVENT
SUMMARY:Card Class
DTSTART;TZID=US/Eastern:20180327T130000
DTEND;TZID=US/Eastern:20180327T180000
DTSTAMP:20260420T172955Z
UID:d5c2e543493d4784be34f0382574ea68@saas_stack_varnish:6080
CONTACT:810-688-2282
CREATED:20180323T134658Z
DESCRIPTION:Greeting cards with Barb Deming:  Barb will bring all the supp
 lies to help you create 10 all occasion greeting cards.  There is a $10 fe
 e for this class.  Please call the library to sign up.  810-688-2282
LAST-MODIFIED:20180323T134706Z
LOCATION:NBTL Meeting Room
URL:https://northbranch.ploud.net/news-events/lib-cal/card-class
END:VEVENT
BEGIN:VTIMEZONE
TZID:US/Eastern
X-LIC-LOCATION:US/Eastern
BEGIN:DAYLIGHT
DTSTART:20180311T030000
TZNAME:EDT
TZOFFSETFROM:-0500
TZOFFSETTO:-0400
END:DAYLIGHT
END:VTIMEZONE
END:VCALENDAR
