BEGIN:VCALENDAR
VERSION:2.0
PRODID:-//Plone.org//NONSGML plone.app.event//EN
X-WR-TIMEZONE:US/Eastern
BEGIN:VEVENT
SUMMARY:Card Club
DTSTART;TZID=US/Eastern:20181127T130000
DTEND;TZID=US/Eastern:20181127T140000
DTSTAMP:20260420T155509Z
UID:70ed82eb66904f09bd53c4b583aa4ed3@saas_stack_varnish:6080
RRULE:FREQ=DAILY;COUNT=7
EXDATE;TZID=US/Eastern:20181128T000000,20181129T000000,20181201T000000,201
 81202T000000,20181203T000000
CREATED:20180928T155917Z
DESCRIPTION:Barb Deming of Scrap Happy will be teaching how to make 10 all
  occasion greeting cards. Supplies and material will be provided. There is
  a $10 material fee for this class
LAST-MODIFIED:20180928T155922Z
LOCATION:NBTL Meeting Room
URL:https://northbranch.ploud.net/news-events/lib-cal/card-club-1
END:VEVENT
BEGIN:VTIMEZONE
TZID:US/Eastern
X-LIC-LOCATION:US/Eastern
BEGIN:STANDARD
DTSTART:20181104T010000
TZNAME:EST
TZOFFSETFROM:-0400
TZOFFSETTO:-0500
END:STANDARD
END:VTIMEZONE
END:VCALENDAR
