BEGIN:VCALENDAR
VERSION:2.0
PRODID:-//Plone.org//NONSGML plone.app.event//EN
X-WR-TIMEZONE:US/Eastern
BEGIN:VEVENT
SUMMARY:Card Club
DTSTART;TZID=US/Eastern:20190205T120000
DTEND;TZID=US/Eastern:20190205T180000
DTSTAMP:20260420T141022Z
UID:757e3ca252714570aec9d0cad85dd387@saas_stack_varnish:6080
RRULE:FREQ=DAILY;COUNT=2
RDATE;TZID=US/Eastern:20190207T000000
EXDATE;TZID=US/Eastern:20190206T000000,20190208T000000,20190209T000000,201
 90210T000000,20190211T000000
CONTACT:Kelli Lovasz\, 8106882282\, northbranchlibrary@northbranchlibrary.
 net
CREATED:20190205T161620Z
DESCRIPTION:Make 10 all occasion Greeting Cards with Barb Deming.  Supplie
 s will be provided and a $10 material fee is required for this program.\nP
 lease preregister in person or by phone at the NBTL \n810-688-2282
LAST-MODIFIED:20190205T161625Z
LOCATION:NBTL Meeting Room
URL:https://northbranch.ploud.net/news-events/lib-cal/card-club-2
END:VEVENT
BEGIN:VTIMEZONE
TZID:US/Eastern
X-LIC-LOCATION:US/Eastern
BEGIN:STANDARD
DTSTART:20181104T010000
TZNAME:EST
TZOFFSETFROM:-0400
TZOFFSETTO:-0500
END:STANDARD
END:VTIMEZONE
END:VCALENDAR
