BEGIN:VCALENDAR
VERSION:2.0
PRODID:-//Plone.org//NONSGML plone.app.event//EN
X-WR-TIMEZONE:US/Eastern
BEGIN:VEVENT
SUMMARY:Card Club
DTSTART;TZID=US/Eastern:20191119T130000
DTEND;TZID=US/Eastern:20191119T180000
DTSTAMP:20260420T093423Z
UID:38bef7e14f2d4a2592d5ebeaadff8fc9@saas_stack_varnish:6080
CREATED:20191015T194816Z
DESCRIPTION:Barb Deming will help you make 10 all occasion cards for your 
 use.  There is a $10 material fee for this class.  Sign up at the circulat
 ion desk.
LAST-MODIFIED:20191015T194821Z
LOCATION:NBTL Meeting Room
URL:https://northbranch.ploud.net/news-events/lib-cal/card-club-3
END:VEVENT
BEGIN:VTIMEZONE
TZID:US/Eastern
X-LIC-LOCATION:US/Eastern
BEGIN:STANDARD
DTSTART:20191103T010000
TZNAME:EST
TZOFFSETFROM:-0400
TZOFFSETTO:-0500
END:STANDARD
END:VTIMEZONE
END:VCALENDAR
