BEGIN:VCALENDAR
VERSION:2.0
PRODID:-//Plone.org//NONSGML plone.app.event//EN
X-WR-TIMEZONE:US/Eastern
BEGIN:VEVENT
SUMMARY:Card Club
DTSTART;TZID=US/Eastern:20200326T130000
DTEND;TZID=US/Eastern:20200326T180000
DTSTAMP:20260420T093743Z
UID:01cb942b2f454e739275c28c1906948a@saas_stack_varnish:6080
CREATED:20200210T175916Z
DESCRIPTION:Make 10 all occasion greeting cards with Barb Deming.  There i
 s a $10 charge for the supplies of this class.
LAST-MODIFIED:20200210T175920Z
LOCATION:NBTL Meeting Room
URL:https://northbranch.ploud.net/news-events/lib-cal/card-club-5/2020-03-
 26
END:VEVENT
BEGIN:VTIMEZONE
TZID:US/Eastern
X-LIC-LOCATION:US/Eastern
BEGIN:DAYLIGHT
DTSTART:20200308T030000
TZNAME:EDT
TZOFFSETFROM:-0500
TZOFFSETTO:-0400
END:DAYLIGHT
END:VTIMEZONE
END:VCALENDAR
