BEGIN:VCALENDAR
VERSION:2.0
PRODID:-//Plone.org//NONSGML plone.app.event//EN
X-WR-TIMEZONE:US/Eastern
BEGIN:VEVENT
SUMMARY:Card Club
DTSTART;TZID=US/Eastern:20180925T130000
DTEND;TZID=US/Eastern:20180925T180000
DTSTAMP:20260420T155643Z
UID:19a71f837d744e5eb53a6c86af361688@saas_stack_varnish:6080
RRULE:FREQ=DAILY;COUNT=2;INTERVAL=2
CONTACT:Kelli Lovasz\, 810-688-2282\, northbranchlibrary@northbranchlibrar
 y.net
CREATED:20180830T172604Z
DESCRIPTION:Barb Deming of Scrap Happy will be teaching how to make 10 all
  occasion greeting cards.  Supplies and material will be provided.  There 
 is a $10 material fee for this class.
LAST-MODIFIED:20180830T172609Z
LOCATION:NBTL Meeting Room
URL:https://northbranch.ploud.net/news-events/lib-cal/card-club
END:VEVENT
BEGIN:VTIMEZONE
TZID:US/Eastern
X-LIC-LOCATION:US/Eastern
BEGIN:DAYLIGHT
DTSTART:20180311T030000
TZNAME:EDT
TZOFFSETFROM:-0500
TZOFFSETTO:-0400
END:DAYLIGHT
END:VTIMEZONE
END:VCALENDAR
