BEGIN:VCALENDAR
VERSION:2.0
PRODID:-//Plone.org//NONSGML plone.app.event//EN
X-WR-TIMEZONE:US/Eastern
BEGIN:VEVENT
SUMMARY:Card Making Class
DTSTART;TZID=US/Eastern:20220419T120000
DTEND;TZID=US/Eastern:20220419T170000
DTSTAMP:20260420T024338Z
UID:9afce4a5363d48fa87c51a5dbc8232ab@saas_stack_varnish:6080
CONTACT:Barb Deming
CREATED:20220412T173046Z
DESCRIPTION:Barb Deming will be offering card making classes.  There is a 
 $10 fee for 10 cards.\nPlease call the library to sign up in order to have
  enough supplies.
LAST-MODIFIED:20220412T173053Z
LOCATION:NBTL Meeting Room
URL:https://northbranch.ploud.net/news-events/lib-cal/card-making-class
END:VEVENT
BEGIN:VTIMEZONE
TZID:US/Eastern
X-LIC-LOCATION:US/Eastern
BEGIN:DAYLIGHT
DTSTART:20220313T030000
TZNAME:EDT
TZOFFSETFROM:-0500
TZOFFSETTO:-0400
END:DAYLIGHT
END:VTIMEZONE
END:VCALENDAR
