BEGIN:VCALENDAR
VERSION:2.0
PRODID:-//Plone.org//NONSGML plone.app.event//EN
X-WR-TIMEZONE:US/Eastern
BEGIN:VEVENT
SUMMARY:Card Making Club
DTSTART;TZID=US/Eastern:20170523T130000
DTEND;TZID=US/Eastern:20170523T180000
DTSTAMP:20260422T120607Z
UID:2e340a1a798e4b339d1915868f9d586c@saas_stack_varnish:6080
CONTACT:Kelli Lovasz\, 810-688-2282\, northbranchlibrary@northbranchlibrar
 y.net
CREATED:20170515T181833Z
DESCRIPTION:Barb Deming Scrap Happy will be teaching you how to make 10 va
 rious greeting cards.  All material will be provided.  There is a $10 mate
 rial fee for this class. Please call the front desk for registration.
LAST-MODIFIED:20170515T181837Z
URL:https://northbranch.ploud.net/news-events/lib-cal/card-making-club
END:VEVENT
BEGIN:VTIMEZONE
TZID:US/Eastern
X-LIC-LOCATION:US/Eastern
BEGIN:DAYLIGHT
DTSTART:20170312T030000
TZNAME:EDT
TZOFFSETFROM:-0500
TZOFFSETTO:-0400
END:DAYLIGHT
END:VTIMEZONE
END:VCALENDAR
