BEGIN:VCALENDAR
VERSION:2.0
PRODID:-//Plone.org//NONSGML plone.app.event//EN
X-WR-TIMEZONE:US/Eastern
BEGIN:VEVENT
SUMMARY:Card Making Workshop
DTSTART;TZID=US/Eastern:20161117T130000
DTEND;TZID=US/Eastern:20161117T180000
DTSTAMP:20260420T221103Z
UID:1acc983511d1426a811fc2887a208b02@saas_stack_varnish:6080
CONTACT:Kelli Lovasz\, 810-688-2282\, northbranchlibrary@northbranchlibrar
 y.net
CREATED:20161025T145456Z
DESCRIPTION:Barb Deming (formerly of Scrap Happy) will be hosting a Card M
 aking Workshop.  There is a $10 material fee for the class.  Materials for
  the cards are all provided.  Bring craft glue and scissors if you have th
 em.  Extra glue and embellishments are available for an additional fee.
LAST-MODIFIED:20161025T145500Z
LOCATION:NBTL Meeting Room
URL:https://northbranch.ploud.net/news-events/lib-cal/card-making-workshop
 /2016-11-17
END:VEVENT
BEGIN:VTIMEZONE
TZID:US/Eastern
X-LIC-LOCATION:US/Eastern
BEGIN:STANDARD
DTSTART:20161106T010000
TZNAME:EST
TZOFFSETFROM:-0400
TZOFFSETTO:-0500
END:STANDARD
END:VTIMEZONE
END:VCALENDAR
