BEGIN:VCALENDAR
VERSION:2.0
PRODID:-//Plone.org//NONSGML plone.app.event//EN
X-WR-TIMEZONE:US/Eastern
BEGIN:VEVENT
SUMMARY:Chef Bommarito
DTSTART;TZID=US/Eastern:20191109T110000
DTEND;TZID=US/Eastern:20191109T130000
DTSTAMP:20260420T091131Z
UID:9790bcde61194979b23258b655ccebdb@saas_stack_varnish:6080
ATTENDEE;CN="Teens and Adults.  Seating is limited, preregistration is req
 uired.";ROLE=REQ-PARTICIPANT:Teens and Adults.  Seating is limited, prereg
 istration is required.
CONTACT:Kelli Lovasz\, 8106882282\, northbranchlibrary@northbranchlibrary.
 net
CREATED:20191015T194408Z
DESCRIPTION:Professional Chef Michelle Bommarito will be teaching an Itali
 an Cooking Class.  This is a show & tell style program.  Chef will teach y
 ou her culinary techniques.  Seating is limited.  You must preregister to 
 attend.  Call the library or stop at the front desk to save your seat.
LAST-MODIFIED:20191015T194414Z
LOCATION:NBTL Meeting Room
URL:https://northbranch.ploud.net/news-events/lib-cal/chef-bommarito
END:VEVENT
BEGIN:VTIMEZONE
TZID:US/Eastern
X-LIC-LOCATION:US/Eastern
BEGIN:STANDARD
DTSTART:20191103T010000
TZNAME:EST
TZOFFSETFROM:-0400
TZOFFSETTO:-0500
END:STANDARD
END:VTIMEZONE
END:VCALENDAR
