BEGIN:VCALENDAR
VERSION:2.0
PRODID:-//Plone.org//NONSGML plone.app.event//EN
X-WR-TIMEZONE:US/Eastern
BEGIN:VEVENT
SUMMARY:Chef Ming at the Library
DTSTART;TZID=US/Eastern:20171107T173000
DTEND;TZID=US/Eastern:20171107T183000
DTSTAMP:20260420T190542Z
UID:6365cfa18a1041aba86e78f85296923b@saas_stack_varnish:6080
ATTENDEE;CN="This program is open to teens and adults.  Please register at
  the library.";ROLE=REQ-PARTICIPANT:This program is open to teens and adul
 ts.  Please register at the library.
CONTACT:Kelli Lovasz\, 810-688-2282\, northbranchlibrary@northbranchlibrar
 y.net
CREATED:20170928T190809Z
DESCRIPTION:Our favorite Chef\, Ming Louie\, will be teaching us to make a
  Chinese favorite.  This is a hands-on cooking demonstration.  Please call
  the library to register for this event\, seats are limited.
LAST-MODIFIED:20170928T190815Z
LOCATION:NBTL Meeting Room
URL:https://northbranch.ploud.net/news-events/lib-cal/chef-ming-at-the-lib
 rary
END:VEVENT
BEGIN:VTIMEZONE
TZID:US/Eastern
X-LIC-LOCATION:US/Eastern
BEGIN:STANDARD
DTSTART:20171105T010000
TZNAME:EST
TZOFFSETFROM:-0400
TZOFFSETTO:-0500
END:STANDARD
END:VTIMEZONE
END:VCALENDAR
