BEGIN:VCALENDAR
VERSION:2.0
PRODID:-//Plone.org//NONSGML plone.app.event//EN
X-WR-TIMEZONE:US/Eastern
BEGIN:VEVENT
SUMMARY:Child ID Program
DTSTART;TZID=US/Eastern:20180717T100000
DTEND;TZID=US/Eastern:20180717T130000
DTSTAMP:20260422T161055Z
UID:49570c51aac94797863730bb24789817@saas_stack_varnish:6080
CONTACT:Kelli Lovasz\, 810-688-2282\, northbranchlibrary@northbranchlibrar
 y.net
CREATED:20180613T185617Z
DESCRIPTION:The NBTL is partnering with the North Branch Masonic Lodge to 
 provide a child ID program.  \n\nThe Michigan Child ID Program provides pa
 rents and guardians with a "Child ID Kit" that contains all the vital info
 rmation necessary to expedite law enforcement efforts to locate a missing 
 child. The program also helps to educate families about abduction preventi
 on and safety.\n\nThe kit includes a photo ID card\, color photo\, digital
  fingerprints\, recorded interview to capture speech characteristics\, den
 tal impressions\, DNA\, and a complete Amber Alert profile.
LAST-MODIFIED:20180613T185622Z
LOCATION:NBTL
URL:https://northbranch.ploud.net/news-events/lib-cal/child-id-program
END:VEVENT
BEGIN:VTIMEZONE
TZID:US/Eastern
X-LIC-LOCATION:US/Eastern
BEGIN:DAYLIGHT
DTSTART:20180311T030000
TZNAME:EDT
TZOFFSETFROM:-0500
TZOFFSETTO:-0400
END:DAYLIGHT
END:VTIMEZONE
END:VCALENDAR
