BEGIN:VCALENDAR
VERSION:2.0
PRODID:-//Plone.org//NONSGML plone.app.event//EN
X-WR-TIMEZONE:US/Eastern
BEGIN:VEVENT
SUMMARY:Circle Shelf - Home Décor Class
DTSTART;TZID=US/Eastern:20220430T103000
DTEND;TZID=US/Eastern:20220430T133000
DTSTAMP:20260420T070927Z
UID:f500542ebeb7461280ee5e9dee1cc16f@saas_stack_varnish:6080
CONTACT:8106882282\, northbranchlibary@northbranchlibrary.net
CREATED:20220321T191609Z
DESCRIPTION:A home decor class at the library.  This class requires a $20 
 supply fee that is due at the time of preregistration.
LAST-MODIFIED:20220321T191616Z
LOCATION:NBTL Meeting Room
URL:https://northbranch.ploud.net/news-events/lib-cal/circle-shelf-home-de
 cor-class
END:VEVENT
BEGIN:VTIMEZONE
TZID:US/Eastern
X-LIC-LOCATION:US/Eastern
BEGIN:DAYLIGHT
DTSTART:20220313T030000
TZNAME:EDT
TZOFFSETFROM:-0500
TZOFFSETTO:-0400
END:DAYLIGHT
END:VTIMEZONE
END:VCALENDAR
