BEGIN:VCALENDAR
VERSION:2.0
PRODID:-//Plone.org//NONSGML plone.app.event//EN
X-WR-TIMEZONE:US/Eastern
BEGIN:VEVENT
SUMMARY:Classroom Critters
DTSTART;TZID=US/Eastern:20160711T120000
DTEND;TZID=US/Eastern:20160711T130000
DTSTAMP:20260420T221038Z
UID:3fe075cdcd9843d09b14fd2456b481e4@saas_stack_varnish:6080
ATTENDEE;CN="Ages 3 and up";ROLE=REQ-PARTICIPANT:Ages 3 and up
CONTACT:Kelli Lovasz\, 810-688-2282\, northbranchlibrary@northbranchlibrar
 y.net
CREATED:20160524T152905Z
DESCRIPTION:Hop like a chinchilla\, flap like a bird\, swim like a turtle\
 , scoot like a mouse\, slither like a snake and run to the library to meet
  live animals.  Preregistration is required for this program due to limite
 d seating.  Please call the library or stop at the front desk to register 
 your child.  The program will be held twice at 10:30 am and 12:00 pm to ac
 commodate as many participants as possible.
LAST-MODIFIED:20160524T152909Z
LOCATION:NBTL Meeting Room
URL:https://northbranch.ploud.net/news-events/lib-cal/classroom-critters-1
END:VEVENT
BEGIN:VTIMEZONE
TZID:US/Eastern
X-LIC-LOCATION:US/Eastern
BEGIN:DAYLIGHT
DTSTART:20160313T030000
TZNAME:EDT
TZOFFSETFROM:-0500
TZOFFSETTO:-0400
END:DAYLIGHT
END:VTIMEZONE
END:VCALENDAR
