BEGIN:VCALENDAR
VERSION:2.0
PRODID:-//Plone.org//NONSGML plone.app.event//EN
X-WR-TIMEZONE:US/Eastern
BEGIN:VEVENT
SUMMARY:CLOSED
DTSTART;VALUE=DATE:20150907
DTEND;VALUE=DATE:20150908
DTSTAMP:20260420T162413Z
UID:49e4f2656cbb42d9a13c96c62ee71a15@saas_stack_varnish:6080
CONTACT:Kelli Lovasz\, 810-688-2282\, northbranchlibrary@northbranchlibrar
 y.net
CREATED:20150901T165148Z
DESCRIPTION:The NBTL will be closed for Labor Day
LAST-MODIFIED:20150901T165156Z
LOCATION:NBTL
URL:https://northbranch.ploud.net/news-events/lib-cal/closed-1
END:VEVENT
END:VCALENDAR
