BEGIN:VCALENDAR
VERSION:2.0
PRODID:-//Plone.org//NONSGML plone.app.event//EN
X-WR-TIMEZONE:US/Eastern
BEGIN:VEVENT
SUMMARY:CLOSED
DTSTART;TZID=US/Eastern:20170704T100000
DTEND;TZID=US/Eastern:20170704T190000
DTSTAMP:20260420T204058Z
UID:91b4abe6bdfd4cb9a7759d7f2cbc12b4@saas_stack_varnish:6080
CREATED:20170515T192855Z
DESCRIPTION:The Library will be closed for the 4th of July Holiday
LAST-MODIFIED:20170515T192900Z
URL:https://northbranch.ploud.net/news-events/lib-cal/closed-10
END:VEVENT
BEGIN:VTIMEZONE
TZID:US/Eastern
X-LIC-LOCATION:US/Eastern
BEGIN:DAYLIGHT
DTSTART:20170312T030000
TZNAME:EDT
TZOFFSETFROM:-0500
TZOFFSETTO:-0400
END:DAYLIGHT
END:VTIMEZONE
END:VCALENDAR
